BEGIN:VCALENDAR
VERSION:2.0
PRODID:-//THD Veranstaltungen//th-deg.de//DE
CALSCALE:GREGORIAN
BEGIN:VEVENT
DTSTART:20260521T140000
DTEND:20260521T170000
LOCATION:Campus Deggendorf
DTSTAMP:20260521T140000
SUMMARY:Studieninfotag
DESCRIPTION:<p>Sei dabei! Bei unserem Studieninfotag an der THD.</p>

<p>Du schließt bald die Schule ab und möchtest Insight in das Studium an der THD bekommen? Dann komm am 21.05.2026 ab 14:00 Uhr zu unserem Studieninfotag und erlebe unsere Hochschule live! Eine Anmeldung ist nicht notwendig.</p>

<p>Das erwartet dich am Studieninfotag:</p>

<p>Vorstellung der Hochschule, Einblick in unsere Studiengänge, spannende Impulsvorlesungen, Austausch auf Augenhöhe, Campusführungen, Umfassende Studienberatung, Internationale Chancen und vieles mehr!</p>

<p>&nbsp;</p>

<p>Alle Infos dazu findest du hier: <a href="https://th-deg.de/studieninfotag" tabindex="-1">Studieninfotag</a></p>

UID:61002966343c0d329af7239ab0372d83@th-deg.de
END:VEVENT
END:VCALENDAR\n• Ethische und interkulturelle Kompetenz<br />\n• Rechtliche Grundlagen und berufspolitische Aspekte<br />\n<br />\nEckdaten:<br />\n• Dauer: 5 Monate<br />\n• Ort: online / MS Teams<br />\n<br />\nZielgruppe:<br />\nDer Hochschulzertifikatskurs "Praxisanleitung im Hebammenwesen" richtet sich an Hebammen, die...<br />\n• ... über eine abgeschlossene Berufsausbildung verfügen<br />\n• ... und eine mindestens zweijährige einschlägige Berufserfahrung mitbringen<br />\n<br />\nKursinhalte:<br />\n• Modul 1: Evidenzbasiertes Handeln (30 UE Online-Präsenz, 30 UE Selbststudium)<br />\n• Modul 2: Berufspädagogische Grundlagen und Praxislernen (75 UE Online-Präsenz, 16 Stunden Hospitation, 29 UE Selbststudium)<br />\n• Modul 3: Ethische und interkulturelle Kompetenz (30 UE Online-Präsenz, 30 UE Selbststudium)<br />\n• Modul 4: Rechtliche Grundlagen und Berufspolitische Aspekte (25 UE Online-Präsenz, 35 UE Selbststudium)<br />\n• Gesamt: 300 UE Workload (160 UE Online-Präsenz und 140 UE Selbststudium, inkl. Hospitation)<br />\n<br />\nOrganisatorisches:<br />\nDie Weiterbildung ist berufsbegleitend ausgelegt, umfasst 5 Monate und wird rein virtuell durchgeführt. Neben 160 Unterrichtsstunden Präsenzstudium, sind 140 Unterrichtsstunden als Selbststudium (inkl. einer Hospitation im Umfang von 16 Stunden) angedacht (Workload insgesamt: 300 Unterrichtsstunden)<br />\n<br />\nTechnische Ausstattung:<br />\nVoraussetzung, um gut am Kurs und den Prüfungen teilnehmen zu können, ist es, die gängigen MS Office Programme (Word, PowerPoint) auf dem Rechner zu installieren<br />\n<br />\n
UID:11cca5a949fa91712357154b63fb39a1@th-deg.de
END:VEVENT
END:VCALENDAR