BEGIN:VCALENDAR
VERSION:2.0
PRODID:-//THD Veranstaltungen//th-deg.de//DE
CALSCALE:GREGORIAN
BEGIN:VEVENT
DTSTART:20260521T170000
DTEND:20260521T230000
LOCATION:Stadtplatz Deggendorf
DTSTAMP:20260521T170000
SUMMARY:THD erleben bei der Langen Kultur- und Einkaufsnacht
DESCRIPTION:Bis spät in die Nacht hinein laden am 21. Mai in der Deggendorfer Innenstadt Geschäfte und Lokale zum Shoppen und Genießen ein - und auch die THD ist mit dabei!<br />\n<br />\nAb Einbruch der Dunkelheit ist mitten am Stadtplatz die großformatige Fassadenprojektion „OPEN WALLS“ zu sehen. Das Animationsprojekt von Medientechnikstudierenden der THD lädt im kreativen Zusammenspiel von Bildern, Farben und Formen dazu ein, Deggendorf aus neuen Perspektiven zu erleben.<br />\n<br />\nBegleitet wird die Projektion von einem großen Aktionsstand vor dem Alten Rathaus. Dieser kann bereits ab 17 Uhr besucht werden.
UID:7445be76894924b51875be25d13a5e12@th-deg.de
END:VEVENT
END:VCALENDAR