BEGIN:VCALENDAR
VERSION:2.0
PRODID:-//THD Veranstaltungen//th-deg.de//DE
CALSCALE:GREGORIAN
BEGIN:VEVENT
DTSTART:20260924T100000
DTEND:20260924T180000
LOCATION:Hochschule Landshut
DTSTAMP:20260924T100000
SUMMARY:TRIOKON 2026 „Potenziale entfalten – Zukunft gestalten - Unternehmensnachfolge | Defense | Innovation“
DESCRIPTION:<p>Auch in diesem Jahr findet erneut die Transferkonferenz TRIOKON statt, zu der wir Sie am 24. September 2026 an die Hochschule Landshut einladen möchten! Dieses Mal findet die Konferenz zum Thema „Potenziale entfalten – Zukunft gestalten – Unternehmensnachfolge | Defense | Innovation“ statt.<br />
<br />
Gerade kleine und mittelständische Unternehmen sind aktuell mit vielen Unsicherheiten konfrontiert: schwache Konjunktur, geopolitische Unwägbarkeiten, schneller technologischer und soziodemografischer Wandel. Die TRIOKON 2026 will Wege aufzeigen, um die Wettbewerbsfähigkeit der regionalen Wirtschaft zu erhalten und zu stärken. Für viele Unternehmerinnen und Unternehmer stellt insbesondere die Unternehmensnachfolge eine grundlegende Herausforderung dar. Gleichzeitig gewinnt die Frage an Bedeutung, wie ein neues Geschäftsfeld – etwa im Defense-Sektor – erschlossen werden kann und wie sich Innovationen vor Ort konkret umsetzen lassen, damit gute Ideen zu marktfähigen Produkten werden.<br />
<br />
Nutzen Sie die TRIOKON 2026, um Impulse und Best Practices von Experten/- innen aus den ostbayerischen Hochschulen, Unternehmen sowie regionalen Partnern zu erhalten und profitieren Sie vom Networking und dem Gewinnen von neuen zielführenden Kontakten.</p>

<p>Merken Sie sich den Termin vor – die Anmeldung ist ab sofort möglich: https://www.indigo-netzwerk.de/veranstaltungen/triokon-2026/</p>

UID:f6e69a9d24854c95126b1b3ef08d425d@th-deg.de
END:VEVENT
END:VCALENDAR