BEGIN:VCALENDAR
VERSION:2.0
PRODID:-//THD Veranstaltungen//th-deg.de//DE
CALSCALE:GREGORIAN
BEGIN:VEVENT
DTSTART:20261028T113000
DTEND:20261028T153000
LOCATION:European Campus Rottal-Inn | Hybrid: am Campus & online
DTSTAMP:20261028T113000
SUMMARY:TalentConnect @ECRI 2026
DESCRIPTION:<p>TalentConnect bringt internationale Studierende, Unternehmen und Alumni in einem innovativen hybriden Recruiting- und Networking-Format zusammen.</p>

<p>Statt einer klassischen Jobmesse stehen echte Gespräche, persönliche Gespräche ("Student Insights") und nachhaltige Sichtbarkeit im Mittelpunkt.<br />
<br />
Zum Auftakt lädt ein Get-together mit Snacks und Getränken zu einem entspannten Kennenlernen ein. Im Anschluss bieten Unternehmensstände vor Ort am Campus sowie eine Digital Corner für eine virtuelle Teilnahme die Möglichkeit, direkt mit Unternehmen in Kontakt zu treten.<br />
<br />
Ergänzt wird das Programm durch kurze Career Impulse von Alumni und erfolgreichen Studierenden, die Einblicke in Karrierewege, Einstiegsmöglichkeiten und internationale Perspektiven geben.<br />
<br />
Darüber hinaus umfasst TalentConnect digitale Angebote wie Online Company Profiles, eine Online Job Wall mit aktuellen Stellenangeboten sowie digitale Firmenpitches, die auch im Nachgang abrufbar sind.<br />
<br />
Unternehmen, die als Aussteller an der TalentConnect teilnehmen möchten, können sich bis zum 30.06.2026 unter jobmesse-ecri@th-deg.de anmelden.</p>

UID:60d70a63d653f1a06e9c084d8501c628@th-deg.de
END:VEVENT
END:VCALENDAR