BEGIN:VCALENDAR
VERSION:2.0
PRODID:-//THD Veranstaltungen//th-deg.de//DE
CALSCALE:GREGORIAN
BEGIN:VEVENT
DTSTART:20260706T180000
DTEND:20260706T183000
LOCATION:online
DTSTAMP:20260706T180000
SUMMARY:Orientierungssemester an der THD - Onlineinfo
DESCRIPTION:Du hast dein (Fach-)Abi in der Tasche? Du weißt noch nicht, welcher Studiengang dir liegt? Wie wäre zunächst ein Orientierungssemester? Alle Infos dazu erhältst du heute.
UID:e31800fb25a2540a3c9084103ed9a174@th-deg.de
END:VEVENT
END:VCALENDAR