BEGIN:VCALENDAR
VERSION:2.0
PRODID:-//THD Veranstaltungen//th-deg.de//DE
CALSCALE:GREGORIAN
BEGIN:VEVENT
DTSTART:20260507T180000
DTEND:20260507T200000
LOCATION:BITZ Oberschneiding
DTSTAMP:20260507T180000
SUMMARY:Silicon Valley Program 2026 | Homecoming
DESCRIPTION:Unsere aktuellen Teams kommen gerade aus dem Silicon Valley zurück. Neun Monate Mentoring, Investorensparring und internationale Validierung liegen hinter ihnen. <br />\n <br />\nBeim Homecoming 2026 präsentieren die Teams ihre Pitches und die nächsten Schritte Richtung Skalierung, Markt und Finanzierung vor einem Panel aus Investoren und Netzwerkpartnern aus der Region.<br />\nWarum sich der Abend lohnt:<br />\n- Einblick in Start-ups auf dem Weg von MVP zu skalierbaren Geschäftsmodellen<br />\n- Teams, die gezielt auf Investorengespräche vorbereitet wurden<br />\n- Austausch mit Teammitglieder, Unternehmern und Partnern aus dem regionalen Innovationsnetzwerk<br />\n- konkrete Anknüpfungspunkte für Kooperation<br />\n📍 BITZ Oberschneiding<br />\nDonnerstag, 7. Mai 2026<br />\n18:00 Uhr Welcome<br />\n18:20 Uhr Pitch Session der Teams<br />\n20:00 Uhr Get-together<br />\nAnmeldung über den Link unten.
UID:1703979a56978025f55e654f2c8ed1b8@th-deg.de
END:VEVENT
END:VCALENDAR