BEGIN:VCALENDAR
VERSION:2.0
PRODID:-//THD Veranstaltungen//th-deg.de//DE
CALSCALE:GREGORIAN
BEGIN:VEVENT
DTSTART:20260625T090000
DTEND:20260625T150000
LOCATION:Glashaus
DTSTAMP:20260625T090000
SUMMARY:Drachenbootfest
DESCRIPTION:
UID:9042c4639152d53721461d0e0aa0798e@th-deg.de
END:VEVENT
END:VCALENDAR