BEGIN:VCALENDAR
VERSION:2.0
PRODID:-//THD Veranstaltungen//th-deg.de//DE
CALSCALE:GREGORIAN
BEGIN:VEVENT
DTSTART:20260721T100000
DTEND:20260721T123000
LOCATION:Glashaus
DTSTAMP:20260721T100000
SUMMARY:Abschluss Campus Connect: China
DESCRIPTION:
UID:41ce2db283c3207146d9e3ce08b65a28@th-deg.de
END:VEVENT
END:VCALENDAR