BEGIN:VCALENDAR
VERSION:2.0
PRODID:-//THD Veranstaltungen//th-deg.de//DE
CALSCALE:GREGORIAN
BEGIN:VEVENT
DTSTART:20260608T180000
DTEND:20260608T183000
LOCATION:online
DTSTAMP:20260608T180000
SUMMARY:Orientierungsstudium an der THD - Onlineinfo
DESCRIPTION:Du hast dein Abi so gut wie in der Tasche und weißt noch nicht, welchen Bachelorstudiengang zu wählen sollst? Wie wäre es zunächst mit einem Orientierungssemester? Alle Infos dazu bekommst du hier.
UID:45d7cf646c69390269b48034f119f090@th-deg.de
END:VEVENT
END:VCALENDAR