BEGIN:VCALENDAR
VERSION:2.0
PRODID:-//THD Veranstaltungen//th-deg.de//DE
CALSCALE:GREGORIAN
BEGIN:VEVENT
DTSTART:20260424T093000
DTEND:20260424T160000
LOCATION:München
DTSTAMP:20260424T093000
SUMMARY:Master and More - München
DESCRIPTION:<p>Wir freuen uns, dir auf der Messe "Master and More" unsere moderne Hochschule und deren Master Studiengänge vorstellen zu dürfen!</p>

UID:7795ce5bc841a18f8184f5f21f989250@th-deg.de
END:VEVENT
END:VCALENDARQuietschietage“ vom 30.09. bis 01.10.2026 am Campus Deggendorf statt. Dazu laden wir alle unsere Erstsemester herzlich ein!<br />
<br />
Lerne die THD und deine Mitstudierende bereits vor Studienstart kennen und besuche studienrelevante Angebote sowie erste Einführungsveranstaltungen. Unser buntes Rahmenprogramm garantiert dir einen optimalen Studienstart mit jeder Menge Spaß.</p>

UID:28cc873475f33f0c7766f11512a73cdf@th-deg.de
END:VEVENT
END:VCALENDAR